BEGIN:VCALENDAR
VERSION:2.0
PRODID:SchoolNow
CALSCALE:GREGORIAN
BEGIN:VEVENT
UID:aa18fc04-c3e0-11f0-9ba4-0ec70281e507
DTSTAMP:20251216T214513Z
SUMMARY:Busy
URL;VALUE=URI:https://www.dist126.org/hazelgreen/about/calendar/8799786/bus
 y
DTSTART:20251219T164500Z
DTEND:20251219T171500Z
END:VEVENT
END:VCALENDAR
