BEGIN:VCALENDAR
VERSION:2.0
PRODID:SchoolNow
CALSCALE:GREGORIAN
BEGIN:VEVENT
UID:aa18f268-c3e0-11f0-9c4b-0ec70281e507
DTSTAMP:20251216T214513Z
SUMMARY:4th grade Intramurals
URL;VALUE=URI:https://www.dist126.org/hazelgreen/about/calendar/8799785/4th
 -grade-intramurals
DTSTART:20251117T205000Z
DTEND:20251117T215000Z
ATTACH;FILENAME=Intramurals;FMTTYPE=application/octet-stream:https://drive.
 google.com/open?id=1asoXywSBYAwwW1Ygyz1PFNRFLy7bxm9fYO4SarOaBis
END:VEVENT
END:VCALENDAR
