BEGIN:VCALENDAR
VERSION:2.0
PRODID:SchoolNow
CALSCALE:GREGORIAN
BEGIN:VEVENT
UID:cf3985ee-c0e3-11f0-babb-0afff8cdefe5
DTSTAMP:20251216T214514Z
SUMMARY:Mentoring Sign-in
URL;VALUE=URI:https://www.dist126.org/hazelgreen/about/calendar/8794156/men
 toring-sign-in
DTSTART;VALUE=DATE:20270610
DTEND;VALUE=DATE:20270611
END:VEVENT
END:VCALENDAR
