BEGIN:VCALENDAR
VERSION:2.0
PRODID:SchoolNow
CALSCALE:GREGORIAN
BEGIN:VEVENT
UID:cf398508-c0e3-11f0-882f-0afff8cdefe5
DTSTAMP:20251216T214514Z
SUMMARY:Mentoring Sign-in
URL;VALUE=URI:https://www.dist126.org/hazelgreen/about/calendar/8794155/men
 toring-sign-in
DTSTART;VALUE=DATE:20270513
DTEND;VALUE=DATE:20270514
END:VEVENT
END:VCALENDAR
