BEGIN:VCALENDAR
VERSION:2.0
PRODID:SchoolNow
CALSCALE:GREGORIAN
BEGIN:VEVENT
UID:cf39842c-c0e3-11f0-b8c4-0afff8cdefe5
DTSTAMP:20251216T214514Z
SUMMARY:Mentoring Sign-in
URL;VALUE=URI:https://www.dist126.org/hazelgreen/about/calendar/8794154/men
 toring-sign-in
DTSTART;VALUE=DATE:20270408
DTEND;VALUE=DATE:20270409
END:VEVENT
END:VCALENDAR
