BEGIN:VCALENDAR
VERSION:2.0
PRODID:SchoolNow
CALSCALE:GREGORIAN
BEGIN:VEVENT
UID:cf398346-c0e3-11f0-a937-0afff8cdefe5
DTSTAMP:20251216T214514Z
SUMMARY:Mentoring Sign-in
URL;VALUE=URI:https://www.dist126.org/hazelgreen/about/calendar/8794153/men
 toring-sign-in
DTSTART;VALUE=DATE:20270311
DTEND;VALUE=DATE:20270312
END:VEVENT
END:VCALENDAR
