BEGIN:VCALENDAR
VERSION:2.0
PRODID:SchoolNow
CALSCALE:GREGORIAN
BEGIN:VEVENT
UID:cf397a22-c0e3-11f0-87f3-0afff8cdefe5
DTSTAMP:20251216T214514Z
SUMMARY:Mentoring Sign-in
URL;VALUE=URI:https://www.dist126.org/hazelgreen/about/calendar/8794143/men
 toring-sign-in
DTSTART;VALUE=DATE:20260514
DTEND;VALUE=DATE:20260515
END:VEVENT
END:VCALENDAR
