BEGIN:VCALENDAR
VERSION:2.0
PRODID:SchoolNow
CALSCALE:GREGORIAN
BEGIN:VEVENT
UID:d98d8652-c017-11f0-a49e-0a58a9feac02
DTSTAMP:20251216T214513Z
SUMMARY:Interview-Aide
URL;VALUE=URI:https://www.dist126.org/hazelgreen/about/calendar/8792183/int
 erview-aide
DTSTART;VALUE=DATE:20251203
DTEND;VALUE=DATE:20251204
END:VEVENT
END:VCALENDAR
