BEGIN:VCALENDAR
VERSION:2.0
PRODID:SchoolNow
CALSCALE:GREGORIAN
BEGIN:VEVENT
UID:d953306a-c017-11f0-ae71-0a58a9feac02
DTSTAMP:20251216T214513Z
SUMMARY:Elfster RSVP Deadline
URL;VALUE=URI:https://www.dist126.org/hazelgreen/about/calendar/8792182/elf
 ster-rsvp-deadline
DTSTART:20251120T140000Z
DTEND:20251120T210000Z
END:VEVENT
END:VCALENDAR
