BEGIN:VCALENDAR
VERSION:2.0
PRODID:SchoolNow
CALSCALE:GREGORIAN
BEGIN:VEVENT
UID:d952ece0-c017-11f0-94a4-0a58a9feac02
DTSTAMP:20251216T214513Z
SUMMARY:PFO Starbucks Delivery
URL;VALUE=URI:https://www.dist126.org/hazelgreen/about/calendar/8792181/pfo
 -starbucks-delivery
DTSTART:20251114T160000Z
DTEND:20251114T163000Z
END:VEVENT
END:VCALENDAR
