BEGIN:VCALENDAR
VERSION:2.0
PRODID:SchoolNow
CALSCALE:GREGORIAN
BEGIN:VEVENT
UID:dd08fbb4-bfe4-11f0-8a16-02e9be8c7c07
DTSTAMP:20251216T214513Z
SUMMARY:Canva Club
URL;VALUE=URI:https://www.dist126.org/hazelgreen/about/calendar/8791132/can
 va-club
DTSTART:20251120T173500Z
DTEND:20251120T181500Z
ATTACH;FILENAME=Canva Club 2025-26;FMTTYPE=application/octet-stream:https:/
 /drive.google.com/open?id=14cibXLrrfboaFRiFntdj2u-6BkBi-ys5VW6qGsBcdiA
END:VEVENT
END:VCALENDAR
