BEGIN:VCALENDAR
VERSION:2.0
PRODID:SchoolNow
CALSCALE:GREGORIAN
BEGIN:VEVENT
UID:dd08ce1e-bfe4-11f0-87ab-02e9be8c7c07
DTSTAMP:20251216T214513Z
SUMMARY:Canva Club
URL;VALUE=URI:https://www.dist126.org/hazelgreen/about/calendar/8791131/can
 va-club
DTSTART:20251113T173500Z
DTEND:20251113T181500Z
ATTACH;FILENAME=Canva Club 2025-26;FMTTYPE=application/octet-stream:https:/
 /drive.google.com/open?id=14cibXLrrfboaFRiFntdj2u-6BkBi-ys5VW6qGsBcdiA
END:VEVENT
END:VCALENDAR
