BEGIN:VCALENDAR
VERSION:2.0
PRODID:SchoolNow
CALSCALE:GREGORIAN
BEGIN:VEVENT
UID:e1ea9900-bf7e-11f0-8cb4-0a58a9feac02
DTSTAMP:20251216T214513Z
SUMMARY:Mentoring Lunch & Craft
LOCATION:STEAM lab
URL;VALUE=URI:https://www.dist126.org/hazelgreen/about/calendar/8790346/men
 toring-lunch-craft
DTSTART:20251215T170000Z
DTEND:20251215T184500Z
END:VEVENT
END:VCALENDAR
