BEGIN:VCALENDAR
VERSION:2.0
PRODID:SchoolNow
CALSCALE:GREGORIAN
BEGIN:VEVENT
UID:02c095ba-bce8-11f0-a9b3-0a58a9feac02
DTSTAMP:20251216T214513Z
SUMMARY:Holiday picture
LOCATION:MPR
URL;VALUE=URI:https://www.dist126.org/hazelgreen/about/calendar/8785233/hol
 iday-picture
DTSTART:20251212T210000Z
DTEND:20251212T211500Z
END:VEVENT
END:VCALENDAR
