BEGIN:VCALENDAR
VERSION:2.0
PRODID:SchoolNow
CALSCALE:GREGORIAN
BEGIN:VEVENT
UID:18648118-bb50-11f0-9fa7-023ff72a93ab
DTSTAMP:20251216T214513Z
SUMMARY:Change Makers RMH Visit
URL;VALUE=URI:https://www.dist126.org/hazelgreen/about/calendar/8781460/cha
 nge-makers-rmh-visit
DTSTART:20251121T160000Z
DTEND:20251121T180000Z
END:VEVENT
END:VCALENDAR
