BEGIN:VCALENDAR
VERSION:2.0
PRODID:SchoolNow
CALSCALE:GREGORIAN
BEGIN:VEVENT
UID:18647d30-bb50-11f0-8d8b-023ff72a93ab
DTSTAMP:20251216T214513Z
SUMMARY:First Grade Field Trip to Homewood Science Ctr.
URL;VALUE=URI:https://www.dist126.org/hazelgreen/about/calendar/8781459/fir
 st-grade-field-trip-to-homewood-science-ctr
DTSTART:20260115T150000Z
DTEND:20260115T183000Z
END:VEVENT
END:VCALENDAR
