BEGIN:VCALENDAR
VERSION:2.0
PRODID:SchoolNow
CALSCALE:GREGORIAN
BEGIN:VEVENT
UID:1fd8c132-bab7-11f0-b6a6-0a58a9feac02
DTSTAMP:20251216T214513Z
SUMMARY:Indigenous People's Month
URL;VALUE=URI:https://www.dist126.org/hazelgreen/about/calendar/8780184/ind
 igenous-peoples-month
DTSTART:20251119T143000Z
DTEND:20251119T203000Z
END:VEVENT
END:VCALENDAR
