BEGIN:VCALENDAR
VERSION:2.0
PRODID:SchoolNow
CALSCALE:GREGORIAN
BEGIN:VEVENT
UID:5721ef2a-b688-11f0-9056-0e3ea80539eb
DTSTAMP:20251216T214513Z
SUMMARY:Miles of Smiles in the Mindful Room
URL;VALUE=URI:https://www.dist126.org/hazelgreen/about/calendar/8764345/mil
 es-of-smiles-in-the-mindful-room
DTSTART;VALUE=DATE:20260312
DTEND;VALUE=DATE:20260313
END:VEVENT
END:VCALENDAR
