BEGIN:VCALENDAR
VERSION:2.0
PRODID:SchoolNow
CALSCALE:GREGORIAN
BEGIN:VEVENT
UID:5721edea-b688-11f0-aa06-0e3ea80539eb
DTSTAMP:20251216T214513Z
SUMMARY:Grades will go live
URL;VALUE=URI:https://www.dist126.org/hazelgreen/about/calendar/8764344/gra
 des-will-go-live
DTSTART;VALUE=DATE:20251121
DTEND;VALUE=DATE:20251122
END:VEVENT
END:VCALENDAR
