BEGIN:VCALENDAR
VERSION:2.0
PRODID:SchoolNow
CALSCALE:GREGORIAN
BEGIN:VEVENT
UID:5721e9ee-b688-11f0-8004-0e3ea80539eb
DTSTAMP:20251216T214513Z
SUMMARY:Grades are due into Skyward
URL;VALUE=URI:https://www.dist126.org/hazelgreen/about/calendar/8764343/gra
 des-are-due-into-skyward
DTSTART;VALUE=DATE:20251118
DTEND;VALUE=DATE:20251119
END:VEVENT
END:VCALENDAR
