BEGIN:VCALENDAR
VERSION:2.0
PRODID:SchoolNow
CALSCALE:GREGORIAN
BEGIN:VEVENT
UID:68a27b0e-b523-11f0-9562-0227b1f7ad9d
DTSTAMP:20251216T214513Z
SUMMARY:R. Rashid Annual Review Meeting
URL;VALUE=URI:https://www.dist126.org/hazelgreen/about/calendar/8760186/r-r
 ashid-annual-review-meeting
DTSTART:20251112T150000Z
DTEND:20251112T160000Z
END:VEVENT
END:VCALENDAR
