BEGIN:VCALENDAR
VERSION:2.0
PRODID:SchoolNow
CALSCALE:GREGORIAN
BEGIN:VEVENT
UID:6b86a68e-b4f0-11f0-b808-0e334dbd9977
DTSTAMP:20251216T214513Z
SUMMARY:1st trimester mtg
URL;VALUE=URI:https://www.dist126.org/hazelgreen/about/calendar/8759340/1st
 -trimester-mtg
DTSTART:20251107T173500Z
DTEND:20251107T181500Z
END:VEVENT
END:VCALENDAR
