BEGIN:VCALENDAR
VERSION:2.0
PRODID:SchoolNow
CALSCALE:GREGORIAN
BEGIN:VEVENT
UID:760653ce-b424-11f0-a6b1-0a58a9feac02
DTSTAMP:20251216T214513Z
SUMMARY:Literature Lunch Bunch
LOCATION:Room 17
URL;VALUE=URI:https://www.dist126.org/hazelgreen/about/calendar/8757071/lit
 erature-lunch-bunch
DTSTART:20260624T163500Z
DTEND:20260624T171500Z
ATTACH;FILENAME=Literature Lunchbunch Attendance 25/26;FMTTYPE=application/
 octet-stream:https://drive.google.com/open?id=1wHnmwvBXt89QdWgQtJvPGIJ1F-X
 cQh1o_eqnEcJECsY
END:VEVENT
END:VCALENDAR
