BEGIN:VCALENDAR
VERSION:2.0
PRODID:SchoolNow
CALSCALE:GREGORIAN
BEGIN:VEVENT
UID:760637ae-b424-11f0-bc4a-0a58a9feac02
DTSTAMP:20251216T214513Z
SUMMARY:Literature Lunch Bunch
LOCATION:Room 17
URL;VALUE=URI:https://www.dist126.org/hazelgreen/about/calendar/8757040/lit
 erature-lunch-bunch
DTSTART:20251126T173500Z
DTEND:20251126T181500Z
ATTACH;FILENAME=Literature Lunchbunch Attendance 25/26;FMTTYPE=application/
 octet-stream:https://drive.google.com/open?id=1wHnmwvBXt89QdWgQtJvPGIJ1F-X
 cQh1o_eqnEcJECsY
END:VEVENT
END:VCALENDAR
