BEGIN:VCALENDAR
VERSION:2.0
PRODID:SchoolNow
CALSCALE:GREGORIAN
BEGIN:VEVENT
UID:75dc8ddc-b424-11f0-80ab-0a58a9feac02
DTSTAMP:20251216T214513Z
SUMMARY:Kindergarten Field Trip Alsip Library
LOCATION:Alsip-Merrionette Park Library\, 11960 S Pulaski Rd\, Alsip\, IL 6
 0803\, USA
URL;VALUE=URI:https://www.dist126.org/hazelgreen/about/calendar/8757035/kin
 dergarten-field-trip-alsip-library
DTSTART:20251114T154500Z
DTEND:20251114T171500Z
END:VEVENT
END:VCALENDAR
