BEGIN:VCALENDAR
VERSION:2.0
PRODID:SchoolNow
CALSCALE:GREGORIAN
BEGIN:VEVENT
UID:75dc6f00-b424-11f0-821b-0a58a9feac02
DTSTAMP:20251216T214513Z
SUMMARY:Ride to school on firetruck
URL;VALUE=URI:https://www.dist126.org/hazelgreen/about/calendar/8757034/rid
 e-to-school-on-firetruck
DTSTART:20251107T140000Z
DTEND:20251107T141500Z
END:VEVENT
END:VCALENDAR
