BEGIN:VCALENDAR
VERSION:2.0
PRODID:SchoolNow
CALSCALE:GREGORIAN
BEGIN:VEVENT
UID:a941b81e-b028-11f0-9fc6-0ea9ff9373a9
DTSTAMP:20251216T214513Z
SUMMARY:Health/Life Safety Visit
URL;VALUE=URI:https://www.dist126.org/hazelgreen/about/calendar/8744804/hea
 lth-life-safety-visit
DTSTART;VALUE=DATE:20251105
DTEND;VALUE=DATE:20251106
END:VEVENT
END:VCALENDAR
