BEGIN:VCALENDAR
VERSION:2.0
PRODID:SchoolNow
CALSCALE:GREGORIAN
BEGIN:VEVENT
UID:c250e0b4-ae2a-11f0-8cef-0a58a9feac02
DTSTAMP:20251216T214513Z
SUMMARY:PFO Hot Cocoa Cart
URL;VALUE=URI:https://www.dist126.org/hazelgreen/about/calendar/8737207/pfo
 -hot-cocoa-cart
DTSTART:20260116T183000Z
DTEND:20260116T203000Z
END:VEVENT
END:VCALENDAR
