BEGIN:VCALENDAR
VERSION:2.0
PRODID:SchoolNow
CALSCALE:GREGORIAN
BEGIN:VEVENT
UID:f209dd2a-adf7-11f0-b948-0a58a9feac02
DTSTAMP:20251216T214513Z
SUMMARY:J. Kosur Annual Review
URL;VALUE=URI:https://www.dist126.org/hazelgreen/about/calendar/8736180/j-k
 osur-annual-review
DTSTART:20251103T143000Z
DTEND:20251103T153000Z
END:VEVENT
END:VCALENDAR
