BEGIN:VCALENDAR
VERSION:2.0
PRODID:SchoolNow
CALSCALE:GREGORIAN
BEGIN:VEVENT
UID:46e0841a-aade-11f0-8642-021b4222f449
DTSTAMP:20251216T214513Z
SUMMARY:Service Club Meeting
LOCATION:Room 24- Mrs. Czarnecki's room
URL;VALUE=URI:https://www.dist126.org/hazelgreen/about/calendar/8727748/ser
 vice-club-meeting
DTSTART:20251017T163500Z
DTEND:20251017T171500Z
ATTACH;FILENAME=Fall Keychain Sale schedule;FMTTYPE=application/octet-strea
 m:https://drive.google.com/open?id=1zh2UxjmGwTCTRuj6j6zckcF6SoBzJHZwlCez58
 dAFog
ATTACH;FILENAME=Service Club Attendance 2025-26;FMTTYPE=application/octet-s
 tream:https://drive.google.com/open?id=1S7b0jAh_Csi1VKepml8_vSy0BEcZctGPI2
 6E5iGuTHk
END:VEVENT
END:VCALENDAR
