BEGIN:VCALENDAR
VERSION:2.0
PRODID:SchoolNow
CALSCALE:GREGORIAN
BEGIN:VEVENT
UID:5d35a25c-a946-11f0-838e-0a58a9feac02
DTSTAMP:20251216T214513Z
SUMMARY:4th Grade Creative Writing Club
URL;VALUE=URI:https://www.dist126.org/hazelgreen/about/calendar/8722289/4th
 -grade-creative-writing-club
DTSTART:20251105T173500Z
DTEND:20251105T181500Z
ATTACH;FILENAME=4th Grade Creative Writing Club 2025-26;FMTTYPE=application
 /octet-stream:https://drive.google.com/open?id=1OP4G5jGUXbAfHbcD8g__1BjSMM
 cZIJzooIGp3YgkEAY
ATTACH;FILENAME=Creative Writing Club Flyer (3).pdf;FMTTYPE=application/pdf
 :https://drive.google.com/open?id=1lkrTQXQnHNc2aiHbdVidXqAfxC-f_Wil
END:VEVENT
END:VCALENDAR
