BEGIN:VCALENDAR
VERSION:2.0
PRODID:SchoolNow
CALSCALE:GREGORIAN
BEGIN:VEVENT
UID:497e3a6e-a4b2-11f0-82cf-0a58a9feac02
DTSTAMP:20251216T214513Z
SUMMARY:Canva Club
URL;VALUE=URI:https://www.dist126.org/hazelgreen/about/calendar/8707046/can
 va-club
DTSTART:20251016T163500Z
DTEND:20251016T171500Z
ATTACH;FILENAME=Canva Club (3).pdf;FMTTYPE=application/pdf:https://drive.go
 ogle.com/open?id=1QHET0njx41_-9-aocAtzoY4iwpuboWsQ
ATTACH;FILENAME=Canva Club 2025-26;FMTTYPE=application/octet-stream:https:/
 /drive.google.com/open?id=14cibXLrrfboaFRiFntdj2u-6BkBi-ys5VW6qGsBcdiA
END:VEVENT
END:VCALENDAR
