BEGIN:VCALENDAR
VERSION:2.0
PRODID:SchoolNow
CALSCALE:GREGORIAN
BEGIN:VEVENT
UID:4c5ac47e-a47f-11f0-86a8-0a58a9feac02
DTSTAMP:20251216T214513Z
SUMMARY:2nd grade Field trip
URL;VALUE=URI:https://www.dist126.org/hazelgreen/about/calendar/8706049/2nd
 -grade-field-trip
DTSTART:20251009T134500Z
DTEND:20251009T171500Z
END:VEVENT
END:VCALENDAR
