BEGIN:VCALENDAR
VERSION:2.0
PRODID:SchoolNow
CALSCALE:GREGORIAN
BEGIN:VEVENT
UID:4ebf4b6e-a44c-11f0-b109-0a58a9feac02
DTSTAMP:20251216T214513Z
SUMMARY:Elementary Chrous Concert
LOCATION:Stony Creek Elementary School\, 11700 S Kolin Ave\, Alsip\, IL 608
 03\, USA
URL;VALUE=URI:https://www.dist126.org/hazelgreen/about/calendar/8705296/ele
 mentary-chrous-concert
DTSTART:20251211T000000Z
DTEND:20251211T010000Z
END:VEVENT
END:VCALENDAR
