BEGIN:VCALENDAR
VERSION:2.0
PRODID:SchoolNow
CALSCALE:GREGORIAN
BEGIN:VEVENT
UID:4ebf477c-a44c-11f0-88f2-0a58a9feac02
DTSTAMP:20251216T214513Z
SUMMARY:Winter Music Assembly
URL;VALUE=URI:https://www.dist126.org/hazelgreen/about/calendar/8705295/win
 ter-music-assembly
DTSTART:20251209T190000Z
DTEND:20251209T200000Z
END:VEVENT
END:VCALENDAR
