BEGIN:VCALENDAR
VERSION:2.0
PRODID:SchoolNow
CALSCALE:GREGORIAN
BEGIN:VEVENT
UID:14695370-a2e8-11f0-8ca9-0a58a9feac02
DTSTAMP:20251216T214513Z
SUMMARY:5th Grade Volume Zoo!
URL;VALUE=URI:https://www.dist126.org/hazelgreen/about/calendar/8699748/5th
 -grade-volume-zoo
DTSTART:20251014T180000Z
DTEND:20251014T193000Z
END:VEVENT
END:VCALENDAR
