BEGIN:VCALENDAR
VERSION:2.0
PRODID:SchoolNow
CALSCALE:GREGORIAN
BEGIN:VEVENT
UID:faf3b344-9eec-11f0-b1a5-0eb84dc6cbd3
DTSTAMP:20251216T214513Z
SUMMARY:Photography Club
URL;VALUE=URI:https://www.dist126.org/hazelgreen/about/calendar/8684150/pho
 tography-club
DTSTART:20251106T173000Z
DTEND:20251106T181500Z
END:VEVENT
END:VCALENDAR
