BEGIN:VCALENDAR
VERSION:2.0
PRODID:SchoolNow
CALSCALE:GREGORIAN
BEGIN:VEVENT
UID:faf3b146-9eec-11f0-9898-0eb84dc6cbd3
DTSTAMP:20251216T214513Z
SUMMARY:Photography Club
URL;VALUE=URI:https://www.dist126.org/hazelgreen/about/calendar/8684148/pho
 tography-club
DTSTART:20251023T163000Z
DTEND:20251023T171500Z
END:VEVENT
END:VCALENDAR
