BEGIN:VCALENDAR
VERSION:2.0
PRODID:SchoolNow
CALSCALE:GREGORIAN
BEGIN:VEVENT
UID:faf3b024-9eec-11f0-ad48-0eb84dc6cbd3
DTSTAMP:20251216T214513Z
SUMMARY:Photography Club Cancelled-will be rescheduled
URL;VALUE=URI:https://www.dist126.org/hazelgreen/about/calendar/8684147/pho
 tography-club-cancelled-will-be-rescheduled
DTSTART:20251016T163000Z
DTEND:20251016T171500Z
END:VEVENT
END:VCALENDAR
