BEGIN:VCALENDAR
VERSION:2.0
PRODID:SchoolNow
CALSCALE:GREGORIAN
BEGIN:VEVENT
UID:faf3aeda-9eec-11f0-80bf-0eb84dc6cbd3
DTSTAMP:20251216T214513Z
SUMMARY:Photography Club
URL;VALUE=URI:https://www.dist126.org/hazelgreen/about/calendar/8684146/pho
 tography-club
DTSTART:20251009T163000Z
DTEND:20251009T171500Z
END:VEVENT
END:VCALENDAR
