BEGIN:VCALENDAR
VERSION:2.0
PRODID:SchoolNow
CALSCALE:GREGORIAN
BEGIN:VEVENT
UID:fade92ac-9eec-11f0-8859-0eb84dc6cbd3
DTSTAMP:20251216T214513Z
SUMMARY:Canva Club
URL;VALUE=URI:https://www.dist126.org/hazelgreen/about/calendar/8684143/can
 va-club
DTSTART:20251002T163500Z
DTEND:20251002T171500Z
ATTACH;FILENAME=Canva Club 2025-26;FMTTYPE=application/octet-stream:https:/
 /drive.google.com/open?id=14cibXLrrfboaFRiFntdj2u-6BkBi-ys5VW6qGsBcdiA
END:VEVENT
END:VCALENDAR
