BEGIN:VCALENDAR
VERSION:2.0
PRODID:SchoolNow
CALSCALE:GREGORIAN
BEGIN:VEVENT
UID:10009c5a-9d55-11f0-b316-0a58a9feac02
DTSTAMP:20251216T214513Z
SUMMARY:Zones of Regulation Teaching
URL;VALUE=URI:https://www.dist126.org/hazelgreen/about/calendar/8676637/zon
 es-of-regulation-teaching
DTSTART:20251015T123000Z
DTEND:20251015T131500Z
END:VEVENT
END:VCALENDAR
