BEGIN:VCALENDAR
VERSION:2.0
PRODID:SchoolNow
CALSCALE:GREGORIAN
BEGIN:VEVENT
UID:d4629ef6-9bf0-11f0-9db5-02f9e6611a0f
DTSTAMP:20251216T214513Z
SUMMARY:Rock Your School- Glow Day
URL;VALUE=URI:https://www.dist126.org/hazelgreen/about/calendar/8671321/roc
 k-your-school-glow-day
DTSTART;VALUE=DATE:20251001
DTEND;VALUE=DATE:20251002
END:VEVENT
END:VCALENDAR
