BEGIN:VCALENDAR
VERSION:2.0
PRODID:SchoolNow
CALSCALE:GREGORIAN
BEGIN:VEVENT
UID:e5acba8e-9af1-11f0-8e13-0e646df45361
DTSTAMP:20251216T214514Z
SUMMARY:5th grade Intramurals
URL;VALUE=URI:https://www.dist126.org/hazelgreen/about/calendar/8667146/5th
 -grade-intramurals
DTSTART:20251023T195000Z
DTEND:20251023T205000Z
ATTACH;FILENAME=Intramurals;FMTTYPE=application/octet-stream:https://drive.
 google.com/open?id=1asoXywSBYAwwW1Ygyz1PFNRFLy7bxm9fYO4SarOaBis
END:VEVENT
END:VCALENDAR
