BEGIN:VCALENDAR
VERSION:2.0
PRODID:SchoolNow
CALSCALE:GREGORIAN
BEGIN:VEVENT
UID:e53e81ae-9af1-11f0-8e2f-0e646df45361
DTSTAMP:20251216T214513Z
SUMMARY:6th Grade Intramurals
URL;VALUE=URI:https://www.dist126.org/hazelgreen/about/calendar/8667059/6th
 -grade-intramurals
DTSTART:20251021T195000Z
DTEND:20251021T205000Z
ATTACH;FILENAME=Intramurals;FMTTYPE=application/octet-stream:https://drive.
 google.com/open?id=1asoXywSBYAwwW1Ygyz1PFNRFLy7bxm9fYO4SarOaBis
END:VEVENT
END:VCALENDAR
