BEGIN:VCALENDAR
VERSION:2.0
PRODID:SchoolNow
CALSCALE:GREGORIAN
BEGIN:VEVENT
UID:e53e80d2-9af1-11f0-b14f-0e646df45361
DTSTAMP:20251216T214513Z
SUMMARY:6th Grade Intramurals
URL;VALUE=URI:https://www.dist126.org/hazelgreen/about/calendar/8667058/6th
 -grade-intramurals
DTSTART:20251014T195000Z
DTEND:20251014T205000Z
ATTACH;FILENAME=Intramurals;FMTTYPE=application/octet-stream:https://drive.
 google.com/open?id=1asoXywSBYAwwW1Ygyz1PFNRFLy7bxm9fYO4SarOaBis
END:VEVENT
END:VCALENDAR
