BEGIN:VCALENDAR
VERSION:2.0
PRODID:SchoolNow
CALSCALE:GREGORIAN
BEGIN:VEVENT
UID:e4e97326-9af1-11f0-8084-0e646df45361
DTSTAMP:20251216T214514Z
SUMMARY:3rd grade Intramurals
URL;VALUE=URI:https://www.dist126.org/hazelgreen/about/calendar/8666970/3rd
 -grade-intramurals
DTSTART:20251001T195000Z
DTEND:20251001T205000Z
ATTACH;FILENAME=Intramurals;FMTTYPE=application/octet-stream:https://drive.
 google.com/open?id=1asoXywSBYAwwW1Ygyz1PFNRFLy7bxm9fYO4SarOaBis
END:VEVENT
END:VCALENDAR
