BEGIN:VCALENDAR
VERSION:2.0
PRODID:SchoolNow
CALSCALE:GREGORIAN
BEGIN:VEVENT
UID:0283cd86-9a26-11f0-aca5-0afff9979011
DTSTAMP:20251216T214513Z
SUMMARY:First Grade Johnny Appleseed celebration
URL;VALUE=URI:https://www.dist126.org/hazelgreen/about/calendar/8663124/fir
 st-grade-johnny-appleseed-celebration
DTSTART:20250926T140000Z
DTEND:20250926T150000Z
END:VEVENT
END:VCALENDAR
