BEGIN:VCALENDAR
VERSION:2.0
PRODID:SchoolNow
CALSCALE:GREGORIAN
BEGIN:VEVENT
UID:0283cc78-9a26-11f0-8e95-0afff9979011
DTSTAMP:20251216T214513Z
SUMMARY:Assembly - The Juggler With The Yellow Shoes Performance
URL;VALUE=URI:https://www.dist126.org/hazelgreen/about/calendar/8663123/ass
 embly-the-juggler-with-the-yellow-shoes-performance
DTSTART:20251030T140000Z
DTEND:20251030T150000Z
END:VEVENT
END:VCALENDAR
