BEGIN:VCALENDAR
VERSION:2.0
PRODID:SchoolNow
CALSCALE:GREGORIAN
BEGIN:VEVENT
UID:0283cb24-9a26-11f0-aeda-0afff9979011
DTSTAMP:20251216T214513Z
SUMMARY:Fire Poster Assembly
URL;VALUE=URI:https://www.dist126.org/hazelgreen/about/calendar/8663122/fir
 e-poster-assembly
DTSTART:20251023T140000Z
DTEND:20251023T143000Z
END:VEVENT
END:VCALENDAR
